BEGIN:VCALENDAR
VERSION:2.0
PRODID:-//Plone.org//NONSGML plone.app.event//EN
X-WR-TIMEZONE:Europe/Zurich
BEGIN:VEVENT
SUMMARY:Xmas Jazz
DTSTART;TZID=Europe/Zurich;VALUE=DATE-TIME:20191226T100000
DTSTAMP;VALUE=DATE-TIME:20260420T152823Z
UID:198e5cd3ecea4ff3a83603fbf83e73e1@localhost:10681
CREATED;VALUE=DATE-TIME:20191210T140645Z
LAST-MODIFIED;VALUE=DATE-TIME:20191210T145543Z
LOCATION:Immanuelkirche
URL:https://www.bluechurch.ch/events/xmas-jazz
END:VEVENT
BEGIN:VTIMEZONE
TZID:Europe/Zurich
X-LIC-LOCATION:Europe/Zurich
BEGIN:STANDARD
DTSTART;VALUE=DATE-TIME:20191027T020000
TZNAME:CET
TZOFFSETFROM:+0200
TZOFFSETTO:+0100
END:STANDARD
END:VTIMEZONE
END:VCALENDAR
