BEGIN:VCALENDAR
VERSION:2.0
PRODID:-//Plone.org//NONSGML plone.app.event//EN
X-WR-TIMEZONE:Europe/Zurich
BEGIN:VEVENT
SUMMARY:Xandre
DTSTART;TZID=Europe/Zurich;VALUE=DATE-TIME:20190316T210000
DTSTAMP;VALUE=DATE-TIME:20260420T165951Z
UID:4b2b2f68da1d48d0a7548144adb1f4f8@localhost:10681
CREATED;VALUE=DATE-TIME:20190307T210051Z
LAST-MODIFIED;VALUE=DATE-TIME:20190307T210940Z
LOCATION:Jardin Cosmique
URL:https://www.bluechurch.ch/events/xandre
END:VEVENT
BEGIN:VTIMEZONE
TZID:Europe/Zurich
X-LIC-LOCATION:Europe/Zurich
BEGIN:STANDARD
DTSTART;VALUE=DATE-TIME:20181028T020000
TZNAME:CET
TZOFFSETFROM:+0200
TZOFFSETTO:+0100
END:STANDARD
END:VTIMEZONE
END:VCALENDAR
