BEGIN:VCALENDAR
VERSION:2.0
PRODID:-//Plone.org//NONSGML plone.app.event//EN
X-WR-TIMEZONE:Europe/Zurich
BEGIN:VEVENT
SUMMARY:Violons Barbares
DTSTART;TZID=Europe/Zurich;VALUE=DATE-TIME:20190324T170000
DTSTAMP;VALUE=DATE-TIME:20260420T170025Z
UID:537dc6125c8b47d5957004b2576ae9ea@localhost:10681
CREATED;VALUE=DATE-TIME:20190324T092944Z
LAST-MODIFIED;VALUE=DATE-TIME:20190324T093356Z
LOCATION:Jardin Cosmique
URL:https://www.bluechurch.ch/events/violons-barbares
END:VEVENT
BEGIN:VTIMEZONE
TZID:Europe/Zurich
X-LIC-LOCATION:Europe/Zurich
BEGIN:STANDARD
DTSTART;VALUE=DATE-TIME:20181028T020000
TZNAME:CET
TZOFFSETFROM:+0200
TZOFFSETTO:+0100
END:STANDARD
END:VTIMEZONE
END:VCALENDAR
