BEGIN:VCALENDAR
VERSION:2.0
PRODID:-//Plone.org//NONSGML plone.app.event//EN
X-WR-TIMEZONE:Europe/Zurich
BEGIN:VEVENT
SUMMARY:Vernissage EPI Kirche mit Patrick Bianco - Saxophon
DTSTART;TZID=Europe/Zurich;VALUE=DATE-TIME:20190319T180000
DTSTAMP;VALUE=DATE-TIME:20260420T170219Z
UID:835cc046d346434e887a5df120966140@localhost:10681
CREATED;VALUE=DATE-TIME:20190319T043152Z
LAST-MODIFIED;VALUE=DATE-TIME:20190319T043502Z
LOCATION:EPI Kirche
URL:https://www.bluechurch.ch/events/vernissage-epi-kirche
END:VEVENT
BEGIN:VTIMEZONE
TZID:Europe/Zurich
X-LIC-LOCATION:Europe/Zurich
BEGIN:STANDARD
DTSTART;VALUE=DATE-TIME:20181028T020000
TZNAME:CET
TZOFFSETFROM:+0200
TZOFFSETTO:+0100
END:STANDARD
END:VTIMEZONE
END:VCALENDAR
