BEGIN:VCALENDAR
VERSION:2.0
PRODID:-//Plone.org//NONSGML plone.app.event//EN
X-WR-TIMEZONE:Europe/Zurich
BEGIN:VEVENT
SUMMARY:unlock21 Konzert
DTSTART;TZID=Europe/Zurich;VALUE=DATE-TIME:20210611T193000
DTSTAMP;VALUE=DATE-TIME:20260420T183054Z
UID:40f54032992847978196c35f362d5935@localhost:10681
CREATED;VALUE=DATE-TIME:20210420T180640Z
LAST-MODIFIED;VALUE=DATE-TIME:20210521T143547Z
LOCATION:Reformierte Kirche
URL:https://www.bluechurch.ch/events/unlock21-konzert
END:VEVENT
BEGIN:VTIMEZONE
TZID:Europe/Zurich
X-LIC-LOCATION:Europe/Zurich
BEGIN:DAYLIGHT
DTSTART;VALUE=DATE-TIME:20210328T030000
TZNAME:CEST
TZOFFSETFROM:+0100
TZOFFSETTO:+0200
END:DAYLIGHT
END:VTIMEZONE
END:VCALENDAR
