BEGIN:VCALENDAR
VERSION:2.0
PRODID:-//Plone.org//NONSGML plone.app.event//EN
X-WR-TIMEZONE:Europe/Zurich
BEGIN:VEVENT
SUMMARY:unlock21 - Jazz im Kloster
DTSTART;TZID=Europe/Zurich;VALUE=DATE-TIME:20210819T140000
DTSTAMP;VALUE=DATE-TIME:20260420T200925Z
UID:b92af2399c0841ab86036376648d77e9@localhost:10681
CREATED;VALUE=DATE-TIME:20210519T082322Z
LAST-MODIFIED;VALUE=DATE-TIME:20210521T102344Z
LOCATION:Kloster Kappel
URL:https://www.bluechurch.ch/events/unlock21-jazz-im-kloster
END:VEVENT
BEGIN:VTIMEZONE
TZID:Europe/Zurich
X-LIC-LOCATION:Europe/Zurich
BEGIN:DAYLIGHT
DTSTART;VALUE=DATE-TIME:20210328T030000
TZNAME:CEST
TZOFFSETFROM:+0100
TZOFFSETTO:+0200
END:DAYLIGHT
END:VTIMEZONE
END:VCALENDAR
