BEGIN:VCALENDAR
VERSION:2.0
PRODID:-//Plone.org//NONSGML plone.app.event//EN
X-WR-TIMEZONE:Europe/Zurich
BEGIN:VEVENT
SUMMARY:Tord Gustavsen Trio: Konzert findet am 29.10.2020 nicht statt! Ver
 schiebung auf später in Abklärung!
DTSTART;TZID=Europe/Zurich;VALUE=DATE-TIME:20201029T203000
DTSTAMP;VALUE=DATE-TIME:20260420T183340Z
UID:6e45a1eaaec6453eab677131c3546383@localhost:10681
CREATED;VALUE=DATE-TIME:20200910T063713Z
LAST-MODIFIED;VALUE=DATE-TIME:20200918T172749Z
LOCATION:Oekumenisches Kirchliches Zentrum\, Rain 13
URL:https://www.bluechurch.ch/events/tord-gustavsen-trio
END:VEVENT
BEGIN:VTIMEZONE
TZID:Europe/Zurich
X-LIC-LOCATION:Europe/Zurich
BEGIN:STANDARD
DTSTART;VALUE=DATE-TIME:20201025T020000
TZNAME:CET
TZOFFSETFROM:+0200
TZOFFSETTO:+0100
END:STANDARD
END:VTIMEZONE
END:VCALENDAR
