BEGIN:VCALENDAR
VERSION:2.0
PRODID:-//Plone.org//NONSGML plone.app.event//EN
X-WR-TIMEZONE:Europe/Zurich
BEGIN:VEVENT
SUMMARY:Tord Gustavsen Trio
DTSTART;TZID=Europe/Zurich;VALUE=DATE-TIME:20210909T200000
DTSTAMP;VALUE=DATE-TIME:20260420T200925Z
UID:ab914e90b2b343d686ad782e44d0814c@localhost:10681
CREATED;VALUE=DATE-TIME:20210714T131332Z
LAST-MODIFIED;VALUE=DATE-TIME:20210830T144218Z
LOCATION:Ökumenisches Kirchliches Zentrum\, Rain 13
URL:https://www.bluechurch.ch/events/tord-gustavsen-trio-1
END:VEVENT
BEGIN:VTIMEZONE
TZID:Europe/Zurich
X-LIC-LOCATION:Europe/Zurich
BEGIN:DAYLIGHT
DTSTART;VALUE=DATE-TIME:20210328T030000
TZNAME:CEST
TZOFFSETFROM:+0100
TZOFFSETTO:+0200
END:DAYLIGHT
END:VTIMEZONE
END:VCALENDAR
