BEGIN:VCALENDAR
VERSION:2.0
PRODID:-//Plone.org//NONSGML plone.app.event//EN
X-WR-TIMEZONE:Europe/Zurich
BEGIN:VEVENT
SUMMARY:Tim Boniface Quartet: The Infant - A Jazz Suite for Christmas
DTSTART;TZID=Europe/Zurich;VALUE=DATE-TIME:20191207T193000
DTSTAMP;VALUE=DATE-TIME:20260420T153446Z
UID:10d01e56493d4c4085a2542031f5ea44@localhost:10681
CREATED;VALUE=DATE-TIME:20191110T141704Z
LAST-MODIFIED;VALUE=DATE-TIME:20191110T141704Z
LOCATION:St Stephen's Church\,
URL:https://www.bluechurch.ch/events/tim-boniface-quartet-the-infant-a-jaz
 z-suite-for-christmas-2
END:VEVENT
BEGIN:VTIMEZONE
TZID:Europe/Zurich
X-LIC-LOCATION:Europe/Zurich
BEGIN:STANDARD
DTSTART;VALUE=DATE-TIME:20191027T020000
TZNAME:CET
TZOFFSETFROM:+0200
TZOFFSETTO:+0100
END:STANDARD
END:VTIMEZONE
END:VCALENDAR
