BEGIN:VCALENDAR
VERSION:2.0
PRODID:-//Plone.org//NONSGML plone.app.event//EN
X-WR-TIMEZONE:Europe/Zurich
BEGIN:VEVENT
SUMMARY:Tim Boniface Quartet: The Infant - A Jazz Suite for Christmas
DTSTART;TZID=Europe/Zurich;VALUE=DATE-TIME:20191201T160000
DTSTAMP;VALUE=DATE-TIME:20260420T153446Z
UID:2fe273bdc4a241adb6cc7690fb8efbcb@localhost:10681
CREATED;VALUE=DATE-TIME:20191110T135729Z
LAST-MODIFIED;VALUE=DATE-TIME:20191110T135931Z
LOCATION:All Saints Church\, Brudenell Rd\, Tooting
URL:https://www.bluechurch.ch/events/tim-boniface-quartet-the-infant-a-jaz
 z-suite-for-christmas-1
END:VEVENT
BEGIN:VTIMEZONE
TZID:Europe/Zurich
X-LIC-LOCATION:Europe/Zurich
BEGIN:STANDARD
DTSTART;VALUE=DATE-TIME:20191027T020000
TZNAME:CET
TZOFFSETFROM:+0200
TZOFFSETTO:+0100
END:STANDARD
END:VTIMEZONE
END:VCALENDAR
