BEGIN:VCALENDAR
VERSION:2.0
PRODID:-//Plone.org//NONSGML plone.app.event//EN
X-WR-TIMEZONE:Europe/Zurich
BEGIN:VEVENT
SUMMARY:The Jakob Manz Project at eastPLUGGED(R)
DTSTART;TZID=Europe/Zurich;VALUE=DATE-TIME:20220429T193000
DTSTAMP;VALUE=DATE-TIME:20260420T231841Z
UID:609bc741cf10432395e9bb755655bf5d@localhost:10681
CREATED;VALUE=DATE-TIME:20211104T095558Z
LAST-MODIFIED;VALUE=DATE-TIME:20211104T095558Z
LOCATION:Friedenskirche\, Hegelstrasse 16
URL:https://www.bluechurch.ch/events/the-jakob-manz-project-at-eastplugged
 -r
END:VEVENT
BEGIN:VTIMEZONE
TZID:Europe/Zurich
X-LIC-LOCATION:Europe/Zurich
BEGIN:DAYLIGHT
DTSTART;VALUE=DATE-TIME:20220327T030000
TZNAME:CEST
TZOFFSETFROM:+0100
TZOFFSETTO:+0200
END:DAYLIGHT
END:VTIMEZONE
END:VCALENDAR
