BEGIN:VCALENDAR
VERSION:2.0
PRODID:-//Plone.org//NONSGML plone.app.event//EN
X-WR-TIMEZONE:Europe/Zurich
BEGIN:VEVENT
SUMMARY:Thank you\, Lord!
DTSTART;TZID=Europe/Zurich;VALUE=DATE-TIME:20260522T180000
DTSTAMP;VALUE=DATE-TIME:20260419T140637Z
UID:1b9e00dec8bd404d8186c12b697db64b@localhost:10681
CREATED;VALUE=DATE-TIME:20260416T175852Z
LAST-MODIFIED;VALUE=DATE-TIME:20260416T175852Z
LOCATION:St. Martha Kirche
URL:https://www.bluechurch.ch/events/thank-you-lord
END:VEVENT
BEGIN:VTIMEZONE
TZID:Europe/Zurich
X-LIC-LOCATION:Europe/Zurich
BEGIN:DAYLIGHT
DTSTART;VALUE=DATE-TIME:20260329T030000
TZNAME:CEST
TZOFFSETFROM:+0100
TZOFFSETTO:+0200
END:DAYLIGHT
END:VTIMEZONE
END:VCALENDAR
