BEGIN:VCALENDAR
VERSION:2.0
PRODID:-//Plone.org//NONSGML plone.app.event//EN
X-WR-TIMEZONE:Europe/Zurich
BEGIN:VEVENT
SUMMARY:Sunday Night for Future
DTSTART;TZID=Europe/Zurich;VALUE=DATE-TIME:20190929T180000
DTSTAMP;VALUE=DATE-TIME:20260420T135030Z
UID:4b6c71c103a249ae815a9148a00eaf75@localhost:10681
CREATED;VALUE=DATE-TIME:20190902T161723Z
LAST-MODIFIED;VALUE=DATE-TIME:20190902T161723Z
LOCATION:Nazarethkirche  Barbarossastrasse 3
URL:https://www.bluechurch.ch/events/sunday-night-for-future-1
END:VEVENT
BEGIN:VTIMEZONE
TZID:Europe/Zurich
X-LIC-LOCATION:Europe/Zurich
BEGIN:DAYLIGHT
DTSTART;VALUE=DATE-TIME:20190331T030000
TZNAME:CEST
TZOFFSETFROM:+0100
TZOFFSETTO:+0200
END:DAYLIGHT
END:VTIMEZONE
END:VCALENDAR
