BEGIN:VCALENDAR
VERSION:2.0
PRODID:-//Plone.org//NONSGML plone.app.event//EN
X-WR-TIMEZONE:Europe/Zurich
BEGIN:VEVENT
SUMMARY:spirit & soul - der forchgottesdienst
DTSTART;TZID=Europe/Zurich;VALUE=DATE-TIME:20200112T103000
DTSTAMP;VALUE=DATE-TIME:20260420T153241Z
UID:3f993a36f1734d489ae5a598bfde27d7@localhost:10681
CREATED;VALUE=DATE-TIME:20191211T131702Z
LAST-MODIFIED;VALUE=DATE-TIME:20191211T131845Z
LOCATION:Singsaal Schulhaus Aesch
URL:https://www.bluechurch.ch/events/spirit-soul-der-forchgottesdienst-8
END:VEVENT
BEGIN:VTIMEZONE
TZID:Europe/Zurich
X-LIC-LOCATION:Europe/Zurich
BEGIN:STANDARD
DTSTART;VALUE=DATE-TIME:20191027T020000
TZNAME:CET
TZOFFSETFROM:+0200
TZOFFSETTO:+0100
END:STANDARD
END:VTIMEZONE
END:VCALENDAR
