BEGIN:VCALENDAR
VERSION:2.0
PRODID:-//Plone.org//NONSGML plone.app.event//EN
X-WR-TIMEZONE:Europe/Zurich
BEGIN:VEVENT
SUMMARY:spirit & soul - der forchgottesdienst
DTSTART;TZID=Europe/Zurich;VALUE=DATE-TIME:20190908T103000
DTSTAMP;VALUE=DATE-TIME:20260420T153241Z
UID:1903fd6cdf65419ba6e1e2f23a641cb4@localhost:10681
CREATED;VALUE=DATE-TIME:20190904T092305Z
LAST-MODIFIED;VALUE=DATE-TIME:20190904T092305Z
LOCATION:Singsaal Schulhaus Aesch\, Aeschstrasse 17
URL:https://www.bluechurch.ch/events/spirit-soul-der-forchgottesdienst-6
END:VEVENT
BEGIN:VTIMEZONE
TZID:Europe/Zurich
X-LIC-LOCATION:Europe/Zurich
BEGIN:DAYLIGHT
DTSTART;VALUE=DATE-TIME:20190331T030000
TZNAME:CEST
TZOFFSETFROM:+0100
TZOFFSETTO:+0200
END:DAYLIGHT
END:VTIMEZONE
END:VCALENDAR
