BEGIN:VCALENDAR
VERSION:2.0
PRODID:-//Plone.org//NONSGML plone.app.event//EN
X-WR-TIMEZONE:Europe/Zurich
BEGIN:VEVENT
SUMMARY:spirit & soul - der forchgottesdienst
DTSTART;TZID=Europe/Zurich;VALUE=DATE-TIME:20190407T100000
DTSTAMP;VALUE=DATE-TIME:20260420T170620Z
UID:e04722e3f4aa4c328fd369138ff54c90@localhost:10681
CREATED;VALUE=DATE-TIME:20190404T102922Z
LAST-MODIFIED;VALUE=DATE-TIME:20190404T103846Z
LOCATION:Singsaal Schulhaus Aesch\, Aeschtrasse 17
URL:https://www.bluechurch.ch/events/spirit-soul-der-forchgottesdienst-5
END:VEVENT
BEGIN:VTIMEZONE
TZID:Europe/Zurich
X-LIC-LOCATION:Europe/Zurich
BEGIN:DAYLIGHT
DTSTART;VALUE=DATE-TIME:20190331T030000
TZNAME:CEST
TZOFFSETFROM:+0100
TZOFFSETTO:+0200
END:DAYLIGHT
END:VTIMEZONE
END:VCALENDAR
