BEGIN:VCALENDAR
VERSION:2.0
PRODID:-//Plone.org//NONSGML plone.app.event//EN
X-WR-TIMEZONE:Europe/Zurich
BEGIN:VEVENT
SUMMARY:"SPIRIT OF DJANGO"
DTSTART;TZID=Europe/Zurich;VALUE=DATE-TIME:20220518T193000
DTSTAMP;VALUE=DATE-TIME:20260420T231456Z
UID:aa454510e6c44a6d9996211e6b03aa13@localhost:10681
CREATED;VALUE=DATE-TIME:20220424T102242Z
LAST-MODIFIED;VALUE=DATE-TIME:20220424T102242Z
LOCATION:Ev. Stadtkriche Karlsruhe
URL:https://www.bluechurch.ch/events/spirit-of-django
END:VEVENT
BEGIN:VTIMEZONE
TZID:Europe/Zurich
X-LIC-LOCATION:Europe/Zurich
BEGIN:DAYLIGHT
DTSTART;VALUE=DATE-TIME:20220327T030000
TZNAME:CEST
TZOFFSETFROM:+0100
TZOFFSETTO:+0200
END:DAYLIGHT
END:VTIMEZONE
END:VCALENDAR
