BEGIN:VCALENDAR
VERSION:2.0
PRODID:-//Plone.org//NONSGML plone.app.event//EN
X-WR-TIMEZONE:Europe/Zurich
BEGIN:VEVENT
SUMMARY:Share'n'Jazz - Jazzkirche Zürich
DTSTART;TZID=Europe/Zurich;VALUE=DATE-TIME:20221028T193000
DTSTAMP;VALUE=DATE-TIME:20260420T231910Z
UID:e31406573c544fc3a993837013048c7b@localhost:10681
CREATED;VALUE=DATE-TIME:20221024T140308Z
LAST-MODIFIED;VALUE=DATE-TIME:20221024T140309Z
LOCATION:Neue Kirche Albisrieden\, Ginsterstrasse 50\, 8047 Zürich
URL:https://www.bluechurch.ch/events/sharenjazz-jazzkirche-zuerich
END:VEVENT
BEGIN:VTIMEZONE
TZID:Europe/Zurich
X-LIC-LOCATION:Europe/Zurich
BEGIN:DAYLIGHT
DTSTART;VALUE=DATE-TIME:20220327T030000
TZNAME:CEST
TZOFFSETFROM:+0100
TZOFFSETTO:+0200
END:DAYLIGHT
END:VTIMEZONE
END:VCALENDAR
