BEGIN:VCALENDAR
VERSION:2.0
PRODID:-//Plone.org//NONSGML plone.app.event//EN
X-WR-TIMEZONE:Europe/Zurich
BEGIN:VEVENT
SUMMARY:Share'n'Jazz
DTSTART;TZID=Europe/Zurich;VALUE=DATE-TIME:20230825T193000
DTSTAMP;VALUE=DATE-TIME:20260421T024712Z
UID:d6f05249b8c84478bba38d5ac01d7cd4@localhost:10681
CREATED;VALUE=DATE-TIME:20230821T090412Z
LAST-MODIFIED;VALUE=DATE-TIME:20230821T090413Z
LOCATION:Jazzkirche Zürich - Neue Kirche Albisrieden\, Ginsterstrasse 50
URL:https://www.bluechurch.ch/events/sharenjazz-8
END:VEVENT
BEGIN:VTIMEZONE
TZID:Europe/Zurich
X-LIC-LOCATION:Europe/Zurich
BEGIN:DAYLIGHT
DTSTART;VALUE=DATE-TIME:20230326T030000
TZNAME:CEST
TZOFFSETFROM:+0100
TZOFFSETTO:+0200
END:DAYLIGHT
END:VTIMEZONE
END:VCALENDAR
