BEGIN:VCALENDAR
VERSION:2.0
PRODID:-//Plone.org//NONSGML plone.app.event//EN
X-WR-TIMEZONE:Europe/Zurich
BEGIN:VEVENT
SUMMARY:Share'n'Jazz
DTSTART;TZID=Europe/Zurich;VALUE=DATE-TIME:20220610T193000
DTSTAMP;VALUE=DATE-TIME:20260420T231444Z
UID:a8ff38a3f5d345e28b0d2916f5bbd17c@localhost:10681
CREATED;VALUE=DATE-TIME:20220205T171338Z
LAST-MODIFIED;VALUE=DATE-TIME:20220205T171338Z
LOCATION:Jazzkirche Zürich\, Neue Kirche Albisrieden\, Ginsterstrasse 50
URL:https://www.bluechurch.ch/events/sharenjazz-5
END:VEVENT
BEGIN:VTIMEZONE
TZID:Europe/Zurich
X-LIC-LOCATION:Europe/Zurich
BEGIN:DAYLIGHT
DTSTART;VALUE=DATE-TIME:20220327T030000
TZNAME:CEST
TZOFFSETFROM:+0100
TZOFFSETTO:+0200
END:DAYLIGHT
END:VTIMEZONE
END:VCALENDAR
