BEGIN:VCALENDAR
VERSION:2.0
PRODID:-//Plone.org//NONSGML plone.app.event//EN
X-WR-TIMEZONE:Europe/Zurich
BEGIN:VEVENT
SUMMARY:Share'n'Jazz
DTSTART;TZID=Europe/Zurich;VALUE=DATE-TIME:20220408T193000
DTSTAMP;VALUE=DATE-TIME:20260420T213930Z
UID:59bab4bc37a74192aa1e2ad9dfa17c11@localhost:10681
CREATED;VALUE=DATE-TIME:20220205T170147Z
LAST-MODIFIED;VALUE=DATE-TIME:20220407T095946Z
LOCATION:Jazzkirche Zürich\, Neue Kirche Albisrieden\, Ginsterstrasse 50
URL:https://www.bluechurch.ch/events/sharenjazz-4
END:VEVENT
BEGIN:VTIMEZONE
TZID:Europe/Zurich
X-LIC-LOCATION:Europe/Zurich
BEGIN:DAYLIGHT
DTSTART;VALUE=DATE-TIME:20220327T030000
TZNAME:CEST
TZOFFSETFROM:+0100
TZOFFSETTO:+0200
END:DAYLIGHT
END:VTIMEZONE
END:VCALENDAR
