BEGIN:VCALENDAR
VERSION:2.0
PRODID:-//Plone.org//NONSGML plone.app.event//EN
X-WR-TIMEZONE:Europe/Zurich
BEGIN:VEVENT
SUMMARY:Share'n'Jazz
DTSTART;TZID=Europe/Zurich;VALUE=DATE-TIME:20220211T193000
DTSTAMP;VALUE=DATE-TIME:20260420T213042Z
UID:23fb3849e7274d3496e62aaf9b5fb275@localhost:10681
CREATED;VALUE=DATE-TIME:20220125T125101Z
LAST-MODIFIED;VALUE=DATE-TIME:20220205T171807Z
LOCATION:Jazzkirche Zürich\, Ginsterstrasse 50\, Neue Kirche Albisrieden
URL:https://www.bluechurch.ch/events/sharenjazz-3
END:VEVENT
BEGIN:VTIMEZONE
TZID:Europe/Zurich
X-LIC-LOCATION:Europe/Zurich
BEGIN:STANDARD
DTSTART;VALUE=DATE-TIME:20211031T020000
TZNAME:CET
TZOFFSETFROM:+0200
TZOFFSETTO:+0100
END:STANDARD
END:VTIMEZONE
END:VCALENDAR
