BEGIN:VCALENDAR
VERSION:2.0
PRODID:-//Plone.org//NONSGML plone.app.event//EN
X-WR-TIMEZONE:Europe/Zurich
BEGIN:VEVENT
SUMMARY:Share'n'Jazz
DTSTART;TZID=Europe/Zurich;VALUE=DATE-TIME:20211105T193000
DTSTAMP;VALUE=DATE-TIME:20260420T213946Z
UID:3e3cc93c6e87449a90e1f36f767b13c3@localhost:10681
CREATED;VALUE=DATE-TIME:20211005T183100Z
LAST-MODIFIED;VALUE=DATE-TIME:20211009T141716Z
LOCATION:Neue Kirche Albisrieden\, Ginsterstrasse 50
URL:https://www.bluechurch.ch/events/sharenjazz-1
END:VEVENT
BEGIN:VTIMEZONE
TZID:Europe/Zurich
X-LIC-LOCATION:Europe/Zurich
BEGIN:STANDARD
DTSTART;VALUE=DATE-TIME:20211031T020000
TZNAME:CET
TZOFFSETFROM:+0200
TZOFFSETTO:+0100
END:STANDARD
END:VTIMEZONE
END:VCALENDAR
