BEGIN:VCALENDAR
VERSION:2.0
PRODID:-//Plone.org//NONSGML plone.app.event//EN
X-WR-TIMEZONE:Europe/Zurich
BEGIN:VEVENT
SUMMARY:Sandy Patton (Vocal) & Martin Jufer (Piano/Vocal)
DTSTART;TZID=Europe/Zurich;VALUE=DATE-TIME:20200104T200000
DTSTAMP;VALUE=DATE-TIME:20260420T153338Z
UID:12bd992b04094da38d3a5de8ef98e401@localhost:10681
CREATED;VALUE=DATE-TIME:20191215T071934Z
LAST-MODIFIED;VALUE=DATE-TIME:20191221T142700Z
LOCATION:Kapelle Obsee
URL:https://www.bluechurch.ch/events/sandy-patton-vocal-martin-jufer-piano
 -vocal
END:VEVENT
BEGIN:VTIMEZONE
TZID:Europe/Zurich
X-LIC-LOCATION:Europe/Zurich
BEGIN:STANDARD
DTSTART;VALUE=DATE-TIME:20191027T020000
TZNAME:CET
TZOFFSETFROM:+0200
TZOFFSETTO:+0100
END:STANDARD
END:VTIMEZONE
END:VCALENDAR
