BEGIN:VCALENDAR
VERSION:2.0
PRODID:-//Plone.org//NONSGML plone.app.event//EN
X-WR-TIMEZONE:Europe/Zurich
BEGIN:VEVENT
SUMMARY:Resonanz - Jazzkirche Düsseldorf
DTSTART;TZID=Europe/Zurich;VALUE=DATE-TIME:20191215T180000
DTSTAMP;VALUE=DATE-TIME:20260420T153101Z
UID:7f29fbe1697e464eaf36892153d58c12@localhost:10681
CREATED;VALUE=DATE-TIME:20191025T153422Z
LAST-MODIFIED;VALUE=DATE-TIME:20191118T142452Z
LOCATION:Neanderkirche
URL:https://www.bluechurch.ch/events/resonanz-jazzkirche-duesseldorf-1
END:VEVENT
BEGIN:VTIMEZONE
TZID:Europe/Zurich
X-LIC-LOCATION:Europe/Zurich
BEGIN:STANDARD
DTSTART;VALUE=DATE-TIME:20191027T020000
TZNAME:CET
TZOFFSETFROM:+0200
TZOFFSETTO:+0100
END:STANDARD
END:VTIMEZONE
END:VCALENDAR
