BEGIN:VCALENDAR
VERSION:2.0
PRODID:-//Plone.org//NONSGML plone.app.event//EN
X-WR-TIMEZONE:Europe/Zurich
BEGIN:VEVENT
SUMMARY:Radikale Kammermusik
DTSTART;TZID=Europe/Zurich;VALUE=DATE-TIME:20190629T200000
DTSTAMP;VALUE=DATE-TIME:20260420T153008Z
UID:7382ae980eb84277954de5e05aa89d49@localhost:10681
CREATED;VALUE=DATE-TIME:20190626T201505Z
LAST-MODIFIED;VALUE=DATE-TIME:20190626T202839Z
LOCATION:Nazarethkirche Bogenhausen\, Barbarossastraße 3\, 81677 München
URL:https://www.bluechurch.ch/events/radikale-kammermusik
END:VEVENT
BEGIN:VTIMEZONE
TZID:Europe/Zurich
X-LIC-LOCATION:Europe/Zurich
BEGIN:DAYLIGHT
DTSTART;VALUE=DATE-TIME:20190331T030000
TZNAME:CEST
TZOFFSETFROM:+0100
TZOFFSETTO:+0200
END:DAYLIGHT
END:VTIMEZONE
END:VCALENDAR
