BEGIN:VCALENDAR
VERSION:2.0
PRODID:-//Plone.org//NONSGML plone.app.event//EN
X-WR-TIMEZONE:Europe/Zurich
BEGIN:VEVENT
SUMMARY:Psalmenrezital-Mein Gott\, mein Gott warum ?
DTSTART;TZID=Europe/Zurich;VALUE=DATE-TIME:20200307T190000
DTSTAMP;VALUE=DATE-TIME:20260420T170713Z
UID:46fd3d2621ae4c1d97596d4ae26333b3@localhost:10681
CREATED;VALUE=DATE-TIME:20200117T181217Z
LAST-MODIFIED;VALUE=DATE-TIME:20200209T111009Z
LOCATION:ref.Kirche
URL:https://www.bluechurch.ch/events/psalmenrezital-mein-gott-mein-gott-wa
 rum
END:VEVENT
BEGIN:VTIMEZONE
TZID:Europe/Zurich
X-LIC-LOCATION:Europe/Zurich
BEGIN:STANDARD
DTSTART;VALUE=DATE-TIME:20191027T020000
TZNAME:CET
TZOFFSETFROM:+0200
TZOFFSETTO:+0100
END:STANDARD
END:VTIMEZONE
END:VCALENDAR
