BEGIN:VCALENDAR
VERSION:2.0
PRODID:-//Plone.org//NONSGML plone.app.event//EN
X-WR-TIMEZONE:Europe/Zurich
BEGIN:VEVENT
SUMMARY:Pferd und Reiter hat er ins Meer geschleudert
DTSTART;TZID=Europe/Zurich;VALUE=DATE-TIME:20190622T150000
DTSTAMP;VALUE=DATE-TIME:20260420T153318Z
UID:69146554fcba4fea999bd39f3cd8db87@localhost:10681
CREATED;VALUE=DATE-TIME:20180907T173111Z
LAST-MODIFIED;VALUE=DATE-TIME:20190328T164126Z
LOCATION:Lütgendortmund\, Bartholomäuskirche
URL:https://www.bluechurch.ch/events/pferd-und-reiter-hat-er-ins-meer-gesc
 hleudert
END:VEVENT
BEGIN:VTIMEZONE
TZID:Europe/Zurich
X-LIC-LOCATION:Europe/Zurich
BEGIN:DAYLIGHT
DTSTART;VALUE=DATE-TIME:20190331T030000
TZNAME:CEST
TZOFFSETFROM:+0100
TZOFFSETTO:+0200
END:DAYLIGHT
END:VTIMEZONE
END:VCALENDAR
