BEGIN:VCALENDAR
VERSION:2.0
PRODID:-//Plone.org//NONSGML plone.app.event//EN
X-WR-TIMEZONE:Europe/Zurich
BEGIN:VEVENT
SUMMARY:Ostern - Jazzgottesdienst
DTSTART;TZID=Europe/Zurich;VALUE=DATE-TIME:20180401T170000
DTSTAMP;VALUE=DATE-TIME:20260421T124018Z
UID:20d1a51013844b93ac6c33320bbbcaba@localhost:10681
CREATED;VALUE=DATE-TIME:20180124T082216Z
LAST-MODIFIED;VALUE=DATE-TIME:20180124T082216Z
LOCATION:Kunsthalle
URL:https://www.bluechurch.ch/events/ostern-jazzgottesdienst
END:VEVENT
BEGIN:VTIMEZONE
TZID:Europe/Zurich
X-LIC-LOCATION:Europe/Zurich
BEGIN:DAYLIGHT
DTSTART;VALUE=DATE-TIME:20180325T030000
TZNAME:CEST
TZOFFSETFROM:+0100
TZOFFSETTO:+0200
END:DAYLIGHT
END:VTIMEZONE
END:VCALENDAR
