BEGIN:VCALENDAR
VERSION:2.0
PRODID:-//Plone.org//NONSGML plone.app.event//EN
X-WR-TIMEZONE:Europe/Zurich
BEGIN:VEVENT
SUMMARY:Osterjazz - Bending Times
DTSTART;TZID=Europe/Zurich;VALUE=DATE-TIME:20200413T150000
DTSTAMP;VALUE=DATE-TIME:20260420T170014Z
UID:fa1ce13d69794e2db77ff704c2be4c3b@localhost:10681
CREATED;VALUE=DATE-TIME:20200203T115942Z
LAST-MODIFIED;VALUE=DATE-TIME:20200203T120437Z
LOCATION:Schloßkirche
URL:https://www.bluechurch.ch/events/osterjazz
END:VEVENT
BEGIN:VTIMEZONE
TZID:Europe/Zurich
X-LIC-LOCATION:Europe/Zurich
BEGIN:DAYLIGHT
DTSTART;VALUE=DATE-TIME:20200329T030000
TZNAME:CEST
TZOFFSETFROM:+0100
TZOFFSETTO:+0200
END:DAYLIGHT
END:VTIMEZONE
END:VCALENDAR
