BEGIN:VCALENDAR
VERSION:2.0
PRODID:-//Plone.org//NONSGML plone.app.event//EN
X-WR-TIMEZONE:Europe/Zurich
BEGIN:VEVENT
SUMMARY:Oscar Petersons Eastersuite
DTSTART;TZID=Europe/Zurich;VALUE=DATE-TIME:20190422T180000
DTSTAMP;VALUE=DATE-TIME:20260420T170218Z
UID:ef5227e6200f4b17ae51e396dba183c8@localhost:10681
CREATED;VALUE=DATE-TIME:20190329T074920Z
LAST-MODIFIED;VALUE=DATE-TIME:20190329T074920Z
LOCATION:Süsterkirche Bielefeld-Innenstadt
URL:https://www.bluechurch.ch/events/oscar-petersons-eastersuite
END:VEVENT
BEGIN:VTIMEZONE
TZID:Europe/Zurich
X-LIC-LOCATION:Europe/Zurich
BEGIN:DAYLIGHT
DTSTART;VALUE=DATE-TIME:20190331T030000
TZNAME:CEST
TZOFFSETFROM:+0100
TZOFFSETTO:+0200
END:DAYLIGHT
END:VTIMEZONE
END:VCALENDAR
