BEGIN:VCALENDAR
VERSION:2.0
PRODID:-//Plone.org//NONSGML plone.app.event//EN
X-WR-TIMEZONE:Europe/Zurich
BEGIN:VEVENT
SUMMARY:Friday Night Jam
DTSTART;TZID=Europe/Zurich;VALUE=DATE-TIME:20191018T200000
DTSTAMP;VALUE=DATE-TIME:20260420T134849Z
UID:65120d1a087047d6960e4a25b3236577@localhost:10681
CREATED;VALUE=DATE-TIME:20190820T104615Z
LAST-MODIFIED;VALUE=DATE-TIME:20190820T104904Z
LOCATION:FORUM ROYAL\, Schwarzwaldallee 175 (gegenüber Bad.Bahnhof)
URL:https://www.bluechurch.ch/events/open-jam-session
END:VEVENT
BEGIN:VTIMEZONE
TZID:Europe/Zurich
X-LIC-LOCATION:Europe/Zurich
BEGIN:DAYLIGHT
DTSTART;VALUE=DATE-TIME:20190331T030000
TZNAME:CEST
TZOFFSETFROM:+0100
TZOFFSETTO:+0200
END:DAYLIGHT
END:VTIMEZONE
END:VCALENDAR
