BEGIN:VCALENDAR
VERSION:2.0
PRODID:-//Plone.org//NONSGML plone.app.event//EN
X-WR-TIMEZONE:Europe/Zurich
BEGIN:VEVENT
SUMMARY:Norwegischer Jazz-Pianist Tord Gustavsen in der Christuskirche St.
  Ingbert zu Gast
DTSTART;TZID=Europe/Zurich;VALUE=DATE-TIME:20191117T150000
DTSTAMP;VALUE=DATE-TIME:20260420T153540Z
UID:91a72f35083749d7a5acbacf9b879fc3@localhost:10681
CREATED;VALUE=DATE-TIME:20191107T085507Z
LAST-MODIFIED;VALUE=DATE-TIME:20191107T090047Z
LOCATION:Christuskirche St. Ingbert
URL:https://www.bluechurch.ch/events/norwegischer-jazz-pianist-tord-gustav
 sen-in-der-christuskirche-st-ingbert-zu-gast
END:VEVENT
BEGIN:VTIMEZONE
TZID:Europe/Zurich
X-LIC-LOCATION:Europe/Zurich
BEGIN:STANDARD
DTSTART;VALUE=DATE-TIME:20191027T020000
TZNAME:CET
TZOFFSETFROM:+0200
TZOFFSETTO:+0100
END:STANDARD
END:VTIMEZONE
END:VCALENDAR
