BEGIN:VCALENDAR
VERSION:2.0
PRODID:-//Plone.org//NONSGML plone.app.event//EN
X-WR-TIMEZONE:Europe/Zurich
BEGIN:VEVENT
SUMMARY:Neujahr in Schaffhausen Herblingen
DTSTART;TZID=Europe/Zurich;VALUE=DATE-TIME:20210101T100000
DTSTAMP;VALUE=DATE-TIME:20260420T183858Z
UID:5420a15e46dd4979ad561f95a54b3904@localhost:10681
CREATED;VALUE=DATE-TIME:20201211T094946Z
LAST-MODIFIED;VALUE=DATE-TIME:20201211T094946Z
LOCATION:reformierte Kirche Herblingen
URL:https://www.bluechurch.ch/events/neujahr-in-schaffhausen-herblingen
END:VEVENT
BEGIN:VTIMEZONE
TZID:Europe/Zurich
X-LIC-LOCATION:Europe/Zurich
BEGIN:STANDARD
DTSTART;VALUE=DATE-TIME:20201025T020000
TZNAME:CET
TZOFFSETFROM:+0200
TZOFFSETTO:+0100
END:STANDARD
END:VTIMEZONE
END:VCALENDAR
