BEGIN:VCALENDAR
VERSION:2.0
PRODID:-//Plone.org//NONSGML plone.app.event//EN
X-WR-TIMEZONE:Europe/Zurich
BEGIN:VEVENT
SUMMARY:Nachtschicht - Raum | Licht | Klang | Gebet
DTSTART;TZID=Europe/Zurich;VALUE=DATE-TIME:20220520T210000
DTSTAMP;VALUE=DATE-TIME:20260420T231752Z
UID:ebe37ac7a9f0466cb31c4e7195853b59@localhost:10681
CREATED;VALUE=DATE-TIME:20220504T232142Z
LAST-MODIFIED;VALUE=DATE-TIME:20220504T232142Z
LOCATION:Ev. Stadtkirche
URL:https://www.bluechurch.ch/events/nachtschicht-raum-licht-klang-gebet
END:VEVENT
BEGIN:VTIMEZONE
TZID:Europe/Zurich
X-LIC-LOCATION:Europe/Zurich
BEGIN:DAYLIGHT
DTSTART;VALUE=DATE-TIME:20220327T030000
TZNAME:CEST
TZOFFSETFROM:+0100
TZOFFSETTO:+0200
END:DAYLIGHT
END:VTIMEZONE
END:VCALENDAR
