BEGIN:VCALENDAR
VERSION:2.0
PRODID:-//Plone.org//NONSGML plone.app.event//EN
X-WR-TIMEZONE:Europe/Zurich
BEGIN:VEVENT
SUMMARY:"Nacht des Glaubens. Festival für Kunst und Kirche"
DTSTART;TZID=Europe/Zurich;VALUE=DATE-TIME:20220215T180000
DTSTAMP;VALUE=DATE-TIME:20260420T214655Z
UID:d809ab2be2be4f48a8258aa6f779bb20@localhost:10681
CREATED;VALUE=DATE-TIME:20220215T213409Z
LAST-MODIFIED;VALUE=DATE-TIME:20220215T213409Z
LOCATION:Magdalenenkapelle / Kreuzgang Münster
URL:https://www.bluechurch.ch/events/nacht-des-glaubens-festival-fuer-kuns
 t-und-kirche
END:VEVENT
BEGIN:VTIMEZONE
TZID:Europe/Zurich
X-LIC-LOCATION:Europe/Zurich
BEGIN:STANDARD
DTSTART;VALUE=DATE-TIME:20211031T020000
TZNAME:CET
TZOFFSETFROM:+0200
TZOFFSETTO:+0100
END:STANDARD
END:VTIMEZONE
END:VCALENDAR
