BEGIN:VCALENDAR
VERSION:2.0
PRODID:-//Plone.org//NONSGML plone.app.event//EN
X-WR-TIMEZONE:Europe/Zurich
BEGIN:VEVENT
SUMMARY:Mitgliedertreffen
DTSTART;TZID=Europe/Zurich;VALUE=DATE-TIME:20190622T164500
DTSTAMP;VALUE=DATE-TIME:20260420T152823Z
UID:51e6e34560724f719036b7ec3218d23f@localhost:10681
CREATED;VALUE=DATE-TIME:20190328T165457Z
LAST-MODIFIED;VALUE=DATE-TIME:20190328T165457Z
LOCATION:Lütgendortmund\, Gemeindesaal der Bartholomäuskirche
URL:https://www.bluechurch.ch/events/mitgliedertreffen
END:VEVENT
BEGIN:VTIMEZONE
TZID:Europe/Zurich
X-LIC-LOCATION:Europe/Zurich
BEGIN:DAYLIGHT
DTSTART;VALUE=DATE-TIME:20190331T030000
TZNAME:CEST
TZOFFSETFROM:+0100
TZOFFSETTO:+0200
END:DAYLIGHT
END:VTIMEZONE
END:VCALENDAR
