BEGIN:VCALENDAR
VERSION:2.0
PRODID:-//Plone.org//NONSGML plone.app.event//EN
X-WR-TIMEZONE:Europe/Zurich
BEGIN:VEVENT
SUMMARY:Manfred Junker Trio
DTSTART;TZID=Europe/Zurich;VALUE=DATE-TIME:20190630T170000
DTSTAMP;VALUE=DATE-TIME:20260420T152332Z
UID:65967d9bee934ea8860bf9af8da79f74@localhost:10681
CREATED;VALUE=DATE-TIME:20190424T162318Z
LAST-MODIFIED;VALUE=DATE-TIME:20190424T162318Z
LOCATION:Ref. Kirche am See
URL:https://www.bluechurch.ch/events/manfred-junker-trio
END:VEVENT
BEGIN:VTIMEZONE
TZID:Europe/Zurich
X-LIC-LOCATION:Europe/Zurich
BEGIN:DAYLIGHT
DTSTART;VALUE=DATE-TIME:20190331T030000
TZNAME:CEST
TZOFFSETFROM:+0100
TZOFFSETTO:+0200
END:DAYLIGHT
END:VTIMEZONE
END:VCALENDAR
