BEGIN:VCALENDAR
VERSION:2.0
PRODID:-//Plone.org//NONSGML plone.app.event//EN
X-WR-TIMEZONE:Europe/Zurich
BEGIN:VEVENT
SUMMARY:M06 Musikgottesdienst "Stille"
DTSTART;TZID=Europe/Zurich;VALUE=DATE-TIME:20200315T180000
DTSTAMP;VALUE=DATE-TIME:20260420T170522Z
UID:3e5a5a3906a84150be2235cf8ab7aca3@localhost:10681
CREATED;VALUE=DATE-TIME:20200227T092235Z
LAST-MODIFIED;VALUE=DATE-TIME:20200227T092754Z
LOCATION:Friedenskirche Hegelstrasse 16
URL:https://www.bluechurch.ch/events/m06-musikgottedienst-stille
END:VEVENT
BEGIN:VTIMEZONE
TZID:Europe/Zurich
X-LIC-LOCATION:Europe/Zurich
BEGIN:STANDARD
DTSTART;VALUE=DATE-TIME:20191027T020000
TZNAME:CET
TZOFFSETFROM:+0200
TZOFFSETTO:+0100
END:STANDARD
END:VTIMEZONE
END:VCALENDAR
