BEGIN:VCALENDAR
VERSION:2.0
PRODID:-//Plone.org//NONSGML plone.app.event//EN
X-WR-TIMEZONE:Europe/Zurich
BEGIN:VEVENT
SUMMARY:M05 Musikgottesdienst "BLAU"
DTSTART;TZID=Europe/Zurich;VALUE=DATE-TIME:20190707T180000
DTSTAMP;VALUE=DATE-TIME:20260420T153409Z
UID:1dfacde4fe2f43b7a90cab424091a1d6@localhost:10681
CREATED;VALUE=DATE-TIME:20190101T105759Z
LAST-MODIFIED;VALUE=DATE-TIME:20190623T075819Z
LOCATION:Friedenskirche\, Hegelstrasse 16
URL:https://www.bluechurch.ch/events/m05-musikgottesdienst-friedenskirche-
 ratingen
END:VEVENT
BEGIN:VTIMEZONE
TZID:Europe/Zurich
X-LIC-LOCATION:Europe/Zurich
BEGIN:DAYLIGHT
DTSTART;VALUE=DATE-TIME:20190331T030000
TZNAME:CEST
TZOFFSETFROM:+0100
TZOFFSETTO:+0200
END:DAYLIGHT
END:VTIMEZONE
END:VCALENDAR
