BEGIN:VCALENDAR
VERSION:2.0
PRODID:-//Plone.org//NONSGML plone.app.event//EN
X-WR-TIMEZONE:Europe/Zurich
BEGIN:VEVENT
SUMMARY:M04 Musikgottesdienst "Im Verzicht Gewinn"
DTSTART;TZID=Europe/Zurich;VALUE=DATE-TIME:20190310T180000
DTSTAMP;VALUE=DATE-TIME:20260420T170353Z
UID:b3ae827442d542ef8ebc7432b9bf6d55@localhost:10681
CREATED;VALUE=DATE-TIME:20190101T105555Z
LAST-MODIFIED;VALUE=DATE-TIME:20190307T102927Z
LOCATION:Friedenskirche Hegelstrasse 16
URL:https://www.bluechurch.ch/events/m04-musikgottesdienst
END:VEVENT
BEGIN:VTIMEZONE
TZID:Europe/Zurich
X-LIC-LOCATION:Europe/Zurich
BEGIN:STANDARD
DTSTART;VALUE=DATE-TIME:20181028T020000
TZNAME:CET
TZOFFSETFROM:+0200
TZOFFSETTO:+0100
END:STANDARD
END:VTIMEZONE
END:VCALENDAR
