BEGIN:VCALENDAR
VERSION:2.0
PRODID:-//Plone.org//NONSGML plone.app.event//EN
X-WR-TIMEZONE:Europe/Zurich
BEGIN:VEVENT
SUMMARY:"All Blues " Jazzgottesdienst - Geist. Gegenwart. Improvisation
DTSTART;TZID=Europe/Zurich;VALUE=DATE-TIME:20210509T180000
DTSTAMP;VALUE=DATE-TIME:20260420T184935Z
UID:96599e6bcb9c4f37af0b64ced3f0d278@localhost:10681
CREATED;VALUE=DATE-TIME:20200801T144344Z
LAST-MODIFIED;VALUE=DATE-TIME:20210123T105921Z
LOCATION:Markuskirche\, Sieglitzhofer Straße 4
URL:https://www.bluechurch.ch/events/love-is-here-to-stay2028-jazzgottesdi
 enst-geist-gegenwart-improvisation
END:VEVENT
BEGIN:VTIMEZONE
TZID:Europe/Zurich
X-LIC-LOCATION:Europe/Zurich
BEGIN:DAYLIGHT
DTSTART;VALUE=DATE-TIME:20210328T030000
TZNAME:CEST
TZOFFSETFROM:+0100
TZOFFSETTO:+0200
END:DAYLIGHT
END:VTIMEZONE
END:VCALENDAR
