BEGIN:VCALENDAR
VERSION:2.0
PRODID:-//Plone.org//NONSGML plone.app.event//EN
X-WR-TIMEZONE:Europe/Zurich
BEGIN:VEVENT
SUMMARY:Love Is Here To Stay - Jazzgottesdienst: Geist. Gegenwart. Improvi
 sation
DTSTART;TZID=Europe/Zurich;VALUE=DATE-TIME:20220220T180000
DTSTAMP;VALUE=DATE-TIME:20260420T214434Z
UID:36b95734314d4baebafcfb73b6f32f5c@localhost:10681
CREATED;VALUE=DATE-TIME:20210527T084347Z
LAST-MODIFIED;VALUE=DATE-TIME:20210527T084633Z
LOCATION:Markuskirche\, Sieglitzhofer Straße 4
URL:https://www.bluechurch.ch/events/love-is-here-to-stay-jazzgottesdienst
 -geist-gegenwart-improvisation
END:VEVENT
BEGIN:VTIMEZONE
TZID:Europe/Zurich
X-LIC-LOCATION:Europe/Zurich
BEGIN:STANDARD
DTSTART;VALUE=DATE-TIME:20211031T020000
TZNAME:CET
TZOFFSETFROM:+0200
TZOFFSETTO:+0100
END:STANDARD
END:VTIMEZONE
END:VCALENDAR
