BEGIN:VCALENDAR
VERSION:2.0
PRODID:-//Plone.org//NONSGML plone.app.event//EN
X-WR-TIMEZONE:Europe/Zurich
BEGIN:VEVENT
SUMMARY:LIVESTREAM: Fürbitten- und Gedenkgottesdienst für die Corona-Opf
 er in Indien und Nepal
DTSTART;TZID=Europe/Zurich;VALUE=DATE-TIME:20210509T160000
DTSTAMP;VALUE=DATE-TIME:20260420T185114Z
UID:f53c54c9ccca459c903e49aea6a90967@localhost:10681
CREATED;VALUE=DATE-TIME:20210506T065912Z
LAST-MODIFIED;VALUE=DATE-TIME:20210506T065912Z
LOCATION:Kaiser-Wilhelm-Gedächtnis-Kirche Berlin
URL:https://www.bluechurch.ch/events/livestream-furbitten-und-gedenkgottes
 dienst-fur-die-corona-opfer-in-indien-und-nepal
END:VEVENT
BEGIN:VTIMEZONE
TZID:Europe/Zurich
X-LIC-LOCATION:Europe/Zurich
BEGIN:DAYLIGHT
DTSTART;VALUE=DATE-TIME:20210328T030000
TZNAME:CEST
TZOFFSETFROM:+0100
TZOFFSETTO:+0200
END:DAYLIGHT
END:VTIMEZONE
END:VCALENDAR
