BEGIN:VCALENDAR
VERSION:2.0
PRODID:-//Plone.org//NONSGML plone.app.event//EN
X-WR-TIMEZONE:Europe/Zurich
BEGIN:VEVENT
SUMMARY:Lass Leuchten uns Dein Göttlich Licht
DTSTART;TZID=Europe/Zurich;VALUE=DATE-TIME:20201118T080000
DTSTAMP;VALUE=DATE-TIME:20260420T183930Z
UID:f143fe894c114d46a984ae5376f1198b@localhost:10681
CREATED;VALUE=DATE-TIME:20201116T091802Z
LAST-MODIFIED;VALUE=DATE-TIME:20201116T091802Z
LOCATION:Emmauskirche Berlin Kreuzberg
URL:https://www.bluechurch.ch/events/lass-leuchten-uns-dein-gottlich-licht
END:VEVENT
BEGIN:VTIMEZONE
TZID:Europe/Zurich
X-LIC-LOCATION:Europe/Zurich
BEGIN:STANDARD
DTSTART;VALUE=DATE-TIME:20201025T020000
TZNAME:CET
TZOFFSETFROM:+0200
TZOFFSETTO:+0100
END:STANDARD
END:VTIMEZONE
END:VCALENDAR
