BEGIN:VCALENDAR
VERSION:2.0
PRODID:-//Plone.org//NONSGML plone.app.event//EN
X-WR-TIMEZONE:Europe/Zurich
BEGIN:VEVENT
SUMMARY:KulturKircheKüsnacht jazz+more:  Topalidis and Løvold – Landsc
 apes and Cloudshapes
DTSTART;TZID=Europe/Zurich;VALUE=DATE-TIME:20200904T200000
DTSTAMP;VALUE=DATE-TIME:20260420T170919Z
UID:43ed9b94111447c091db373ac7f96de8@localhost:10681
CREATED;VALUE=DATE-TIME:20191219T074930Z
LAST-MODIFIED;VALUE=DATE-TIME:20200625T125950Z
LOCATION:Reformierte Kirche
URL:https://www.bluechurch.ch/events/kulturkirchekuesnacht-jazz-more-kultu
 rnacht-special-topalidis-and-lovold
END:VEVENT
BEGIN:VTIMEZONE
TZID:Europe/Zurich
X-LIC-LOCATION:Europe/Zurich
BEGIN:DAYLIGHT
DTSTART;VALUE=DATE-TIME:20200329T030000
TZNAME:CEST
TZOFFSETFROM:+0100
TZOFFSETTO:+0200
END:DAYLIGHT
END:VTIMEZONE
END:VCALENDAR
