BEGIN:VCALENDAR
VERSION:2.0
PRODID:-//Plone.org//NONSGML plone.app.event//EN
X-WR-TIMEZONE:Europe/Zurich
BEGIN:VEVENT
SUMMARY:Verschoben!!! KulturKircheGoldküste jazz+more: Pablo Held Trio Ne
 uer Termin folgt.
DTSTART;TZID=Europe/Zurich;VALUE=DATE-TIME:20201204T200000
DTSTAMP;VALUE=DATE-TIME:20260420T184322Z
UID:5f0dc29707004c16ae17bd25ba73a1cf@localhost:10681
CREATED;VALUE=DATE-TIME:20191219T080241Z
LAST-MODIFIED;VALUE=DATE-TIME:20201201T134328Z
LOCATION:Reformierte Kirche
URL:https://www.bluechurch.ch/events/kulturkirchegoldkueste-jazz-more-pabl
 o-held-trio-feat-nelson-veras
END:VEVENT
BEGIN:VTIMEZONE
TZID:Europe/Zurich
X-LIC-LOCATION:Europe/Zurich
BEGIN:STANDARD
DTSTART;VALUE=DATE-TIME:20201025T020000
TZNAME:CET
TZOFFSETFROM:+0200
TZOFFSETTO:+0100
END:STANDARD
END:VTIMEZONE
END:VCALENDAR
