BEGIN:VCALENDAR
VERSION:2.0
PRODID:-//Plone.org//NONSGML plone.app.event//EN
X-WR-TIMEZONE:Europe/Zurich
BEGIN:VEVENT
SUMMARY:KulturKircheGoldküste jazz+more Max Petersen Trio
DTSTART;TZID=Europe/Zurich;VALUE=DATE-TIME:20210709T200000
DTSTAMP;VALUE=DATE-TIME:20260420T201050Z
UID:2343a61139e94f6fba55a3a7a662f4ed@localhost:10681
CREATED;VALUE=DATE-TIME:20210602T121930Z
LAST-MODIFIED;VALUE=DATE-TIME:20210602T123527Z
LOCATION:Reformierte Kirche Küsnacht
URL:https://www.bluechurch.ch/events/kulturkirchegoldkueste-jazz-more-max-
 petersen-trio
END:VEVENT
BEGIN:VTIMEZONE
TZID:Europe/Zurich
X-LIC-LOCATION:Europe/Zurich
BEGIN:DAYLIGHT
DTSTART;VALUE=DATE-TIME:20210328T030000
TZNAME:CEST
TZOFFSETFROM:+0100
TZOFFSETTO:+0200
END:DAYLIGHT
END:VTIMEZONE
END:VCALENDAR
