BEGIN:VCALENDAR
VERSION:2.0
PRODID:-//Plone.org//NONSGML plone.app.event//EN
X-WR-TIMEZONE:Europe/Zurich
BEGIN:VEVENT
SUMMARY:Kulturkirche Küsnacht\,  jazz+more\, Floriano Inácio jr. Quartet
  – Jazz Brasileiro
DTSTART;TZID=Europe/Zurich;VALUE=DATE-TIME:20190510T200000
DTSTAMP;VALUE=DATE-TIME:20260420T170642Z
UID:d8b4214be9ad431b9fffe5932f2dfbb9@localhost:10681
CREATED;VALUE=DATE-TIME:20190107T140244Z
LAST-MODIFIED;VALUE=DATE-TIME:20190411T155824Z
LOCATION:Reformierte Kirche
URL:https://www.bluechurch.ch/events/kulturkirche-kuesnacht-melch-daeniker
 -trio
END:VEVENT
BEGIN:VTIMEZONE
TZID:Europe/Zurich
X-LIC-LOCATION:Europe/Zurich
BEGIN:DAYLIGHT
DTSTART;VALUE=DATE-TIME:20190331T030000
TZNAME:CEST
TZOFFSETFROM:+0100
TZOFFSETTO:+0200
END:DAYLIGHT
END:VTIMEZONE
END:VCALENDAR
