BEGIN:VCALENDAR
VERSION:2.0
PRODID:-//Plone.org//NONSGML plone.app.event//EN
X-WR-TIMEZONE:Europe/Zurich
BEGIN:VEVENT
SUMMARY:Kulturkirche Goldküste\, SARACAS
DTSTART;TZID=Europe/Zurich;VALUE=DATE-TIME:20191004T200000
DTSTAMP;VALUE=DATE-TIME:20260420T135217Z
UID:6767deac55074041b8388765c2ebfb81@localhost:10681
CREATED;VALUE=DATE-TIME:20190107T140935Z
LAST-MODIFIED;VALUE=DATE-TIME:20190107T140935Z
LOCATION:Reformierte Kirche
URL:https://www.bluechurch.ch/events/kulturkirche-goldkueste-saracas
END:VEVENT
BEGIN:VTIMEZONE
TZID:Europe/Zurich
X-LIC-LOCATION:Europe/Zurich
BEGIN:DAYLIGHT
DTSTART;VALUE=DATE-TIME:20190331T030000
TZNAME:CEST
TZOFFSETFROM:+0100
TZOFFSETTO:+0200
END:DAYLIGHT
END:VTIMEZONE
END:VCALENDAR
